BEGIN:VCALENDAR
VERSION:2.0
PRODID:-//wp-events-plugin.com//7.2.3.1//EN
TZID:Europe/Berlin
X-WR-TIMEZONE:Europe/Berlin
BEGIN:VEVENT
UID:2@funnybirds.at
DTSTART;TZID=Europe/Berlin:20240117T080000
DTEND;TZID=Europe/Berlin:20240117T170000
DTSTAMP:20240429T075023Z
URL:https://funnybirds.at/events/2024-01-17-anfaengerkurs-2/
SUMMARY:2024-01-17 Anfängerkurs
DESCRIPTION:
ATTACH;FMTTYPE=image/jpeg:https://funnybirds.at/wp-content/uploads/2024/04
 /anfaengerkurs.jpg
LOCATION:Turnsaal Volksschule Furth/G\, Kirchengasse 51\, Furth/Göttweig\,
  3511\, Österreich
X-APPLE-STRUCTURED-LOCATION;VALUE=URI;X-ADDRESS=Kirchengasse 51\, Furth/Gö
 ttweig\, 3511\, Österreich;X-APPLE-RADIUS=100;X-TITLE=Turnsaal Volksschul
 e Furth/G:geo:0,0
END:VEVENT
BEGIN:VTIMEZONE
TZID:Europe/Berlin
X-LIC-LOCATION:Europe/Berlin
BEGIN:STANDARD
DTSTART:20231029T020000
TZOFFSETFROM:+0200
TZOFFSETTO:+0100
TZNAME:CET
END:STANDARD
END:VTIMEZONE
END:VCALENDAR